Workbook

Sheet Capacitación

Sheet Inicio

Sheet Valores Resolución 1111
B2: ESTÁNDARES MÍNIMOS SG-SST
B3: TABLA DE VALORES Y CALIFICACIÓN
B4: CICLO | C4: ESTÁNDAR | E4: ÌTEM DEL ESTÁNDAR | F4: VALOR | G4: PESO PORCENTUAL | H4: ÍTEMS CUMPLIDOS | I4: VALOR | J4: VALOR | K4: VALOR
B7: I. PLANEAR | C7: RECURSOS (10%) | D7: Recursos financieros, técnicos, humanos y de otra índole requeridos para coordinar y desarrollar el Sistema de Gestión de la Seguridad y la Salud en el Trabajo (SG-SST) (4%) | E7: 1.1.1. Responsable del Sistema de Gestión de Seguridad y Salud en el Trabajo SG-SST | F7: 0.5 | G7: 0.04 | H7: =COUNTA(Planear!N16:N23) -> 5 | I7: =H7*0.005 -> 0.025 | J7: =I7+I15 -> 0.045 | K7: =J7+J18 -> 0.105
E8: 1.1.2 Responsabilidades en el Sistema de Gestión de Seguridad y Salud en el Trabajo – SG-SST | F8: 0.5
E9: 1.1.3 Asignación de recursos para el Sistema de Gestión en Seguridad y Salud en el Trabajo – SG-SST | F9: 0.5
E10: 1.1.4 Afiliación al Sistema General de Riesgos Laborales | F10: 0.5
E11: 1.1.5 Pago de pensión trabajadores alto riesgo | F11: 0.5
E12: 1.1.6 Conformación COPASST / Vigía | F12: 0.5
E13: 1.1.7 Capacitación COPASST / Vigía | F13: 0.5
E14: 1.1.8 Conformación Comité de Convivencia | F14: 0.5
D15: Capacitación en el Sistema de Gestión de la Seguridad y la Salud en el Trabajo (6%) | E15: 1.2.1 Programa Capacitación promoción y prevención PYP | F15: 2 | G15: 0.06 | H15: =COUNTA(Planear!N29:N31) -> 1 | I15: =H15*0.02 -> 0.02
E16: 1.2.2 Capacitación, Inducción y Reinducción en Sistema de Gestión de Seguridad y Salud en el Trabajo SG-SST, actividades de Promoción y Prevención PyP | F16: 2
E17: 1.2.3 Responsables del Sistema de Gestión de Seguridad y Salud en el Trabajo SG-SST con curso (50 horas) | F17: 2
C18: GESTION INTEGRAL DEL SISTEMA DE GESTIÓN DE LA SEGURIDAD | D18: Política de Seguridad y Salud en el Trabajo (1%) | E18: 2.1.1 Política del Sistema de Gestión de Seguridad y Salud en el Trabajo SG-SST firmada, fechada y comunicada al COPASST/Vigía | F18: 1 | G18: 0.15 | H18: =COUNTA(Planear!N37) -> 0 | I18: =H18*0.01 -> 0 | J18: =SUM(I18:I28) -> 0.06
C19: Y LA SALUD EN EL TRABAJO (15%) | D19: Objetivos del Sistema de Gestión de la Seguridad y la Salud en el Trabajo SG-SST (1%) | E19: 2.2.1 Objetivos definidos, claros, medibles, cuantificables, con metas, documentados, revisados del SG-SST | F19: 1 | H19: =COUNTA(Planear!N39) -> 0 | I19: =H19*0.01 -> 0
D20: Evaluación inicial del SG-SST (1%) | E20: 2.3.1 Evaluación e identificación de prioridades | F20: 1 | H20: =COUNTA(Planear!N41) -> 0 | I20: =H20*0.01 -> 0
D21: Plan Anual de Trabajo (2%) | E21: 2.4.1 Plan que identifica objetivos, metas, responsabilidad, recursos con cronograma y firmado | F21: 2 | H21: =COUNTA(Planear!N43) -> 0 | I21: =H21*0.02 -> 0
D22: Conservación de la documentación (2%) | E22: 2.5.1 Archivo o retención documental del Sistema de Gestión en Seguridad y Salud en el Trabajo SG-SST | F22: 2 | H22: =COUNTA(Planear!N45) -> 0 | I22: =H22*0.02 -> 0
D23: Rendición de cuentas (1%) | E23: 2.6.1 Rendición sobre el desempeño | F23: 1 | H23: =COUNTA(Planear!N47) -> 0 | I23: =H23*0.01 -> 0
D24: Normatividad nacional vigente y aplicable en materia de seguridad y salud en el trabajo (2%) | E24: 2.7.1 Matriz legal | F24: 2 | H24: =COUNTA(Planear!N49) -> 1 | I24: =H24*0.02 -> 0.02
D25: Comunicación (1%) | E25: 2.8.1 Mecanismos de comunicación, auto reporte en Sistema de Gestión de Seguridad y Salud en el Trabajo SG-SST | F25: 1 | H25: =COUNTA(Planear!N51) -> 1 | I25: =H25*0.01 -> 0.01
D26: Adquisiciones (1%) | E26: 2.9.1 Identificación, evaluación, para adquisición de productos y servicios en Sistema de Gestión de Seguridad y Salud en el Trabajo SG-SST | F26: 1 | H26: =COUNTA(Planear!N53) -> 1 | I26: =H26*0.01 -> 0.01
D27: Contratación (2%) | E27: 2.10.1 Evaluación y selección de proveedores y contratistas | F27: 2 | H27: =COUNTA(Planear!N55) -> 1 | I27: =H27*0.02 -> 0.02
D28: Gestión del cambio (1%) | E28: 2.11.1 Evaluación del impacto de cambios internos y externos en el Sistema de Gestión de Seguridad y Salud en el Trabajo SG-SST | F28: 1 | H28: =COUNTA(Planear!N57) -> 0 | I28: =H28*0.01 -> 0
B29: II. GESTION DEL CAMBIO | C29: GESTIÓN DE LA SALUD (20%) | D29: Condiciones de salud en el trabajo (9%) | E29: 3.1.1 Evaluación Médica Ocupacional | F29: 1 | G29: 0.09 | H29: =COUNTA(Hacer!N16) -> 1 | I29: =H29*0.01 -> 0.01 | J29: =SUM(I29:I37) -> 0.04 | K29: =SUM(J29:J58) -> 0.455
E30: 3.1.2 Actividades de Promoción y Prevención en Salud | F30: 1 | H30: =COUNTA(Hacer!N17) -> 1 | I30: =H30*0.01 -> 0.01
E31: 3.1.3 Información al médico de los perfiles de cargo | F31: 1 | H31: =COUNTA(Hacer!N18) -> 1 | I31: =H31*0.01 -> 0.01
E32: 3.1.4 Realización de los exámenes médicos ocupacionales: preingreso, periódicos | F32: 1 | H32: =COUNTA(Hacer!N19) -> 0 | I32: =H32*0.01 -> 0
E33: 3.1.5 Custodia de Historias Clínicas | F33: 1 | H33: =COUNTA(Hacer!N20) -> 0 | I33: =H33*0.01 -> 0
E34: 3.1.6 Restricciones y recomendaciones médico laborales | F34: 1 | H34: =COUNTA(Hacer!N21) -> 0 | I34: =H34*0.01 -> 0
E35: 3.1.7 Estilos de vida y entornos saludables (controles tabaquismo, alcoholismo, farmacodependencia y otros) | F35: 1 | H35: =COUNTA(Hacer!N22) -> 0 | I35: =H35*0.01 -> 0
E36: 3.1.8 Agua potable, servicios sanitarios y disposición de basuras | F36: 1 | H36: =COUNTA(Hacer!N23) -> 0 | I36: =H36*0.01 -> 0
E37: 3.1.9 Eliminación adecuada de residuos sólidos, líquidos o gaseosos | F37: 1 | H37: =COUNTA(Hacer!N24) -> 1 | I37: =H37*0.01 -> 0.01
D38: Registro, reporte e investigación de las enfermedades laborales, los incidentes y accidentes del trabajo (5%) | E38: 3.2.1 Reporte de los accidentes de trabajo y enfermedad laboral a la ARL, EPS y Dirección Territorial del Ministerio de Trabajo | F38: 2 | G38: 0.05 | H38: =COUNTA(Hacer!N26) -> 1 | I38: =H38*0.02 -> 0.02 | J38: =SUM(I38:I40) -> 0.04
E39: 3.2.2 Investigación de Accidentes, Incidentes y Enfermedad Laboral | F39: 2 | H39: =COUNTA(Hacer!N27) -> 1 | I39: =H39*0.02 -> 0.02
E40: 3.2.3 Registro y análisis estadístico de Incidentes, Accidentes de Trabajo y Enfermedad Laboral | F40: 1 | H40: =COUNTA(Hacer!N28) -> 0 | I40: =H40*0.01 -> 0
D41: Mecanismos de vigilancia de las condiciones de salud de los trabajadores (6%) | E41: 3.3.1 Medición de la severidad de los Accidentes de Trabajo y Enfermedad Laboral | F41: 1 | G41: 0.06 | H41: =COUNTA(Hacer!N30) -> 1 | I41: =H41*0.01 -> 0.01 | J41: =SUM(I41:I46) -> 0.05
E42: 3.3.2 Medición de la frecuencia de los Incidentes, Accidentes de Trabajo y Enfermedad Laboral | F42: 1 | H42: =COUNTA(Hacer!N31) -> 1 | I42: =H42*0.01 -> 0.01
E43: 3.3.3 Medición de la mortalidad de Accidentes de Trabajo y Enfermedad Laboral | F43: 1 | H43: =COUNTA(Hacer!N32) -> 1 | I43: =H43*0.01 -> 0.01
...

Sheet Instrucciones
C10: 1. De manera organizada, recolecte toda la información referente a su SG SST
C12: 2. En la pantalla principal, diríjase al texto "Planear", pulse allí
C14: 3. Diligencie según las información recolectada.
C17: 4. Luego de diligenciado a totalidad , vuelva a la pantalla principal y diríjase a la casilla "Para mejorar" del ciclo en el que se encuentra; en este caso el ciclo "Planear".
C20: 5. En esta pantalla y siguiendo las instrucciones allí relacionadas, se mostrarán aquellos aspectos que debera ejecutar, implementar o planear.
C23: 6. Luego de verificar esta pantalla, dirijase a la pantalla principal; allí encontrará la casilla "Resultado" donde se indicará numéricamente el cumplimiento del ciclo.
C26: 7. Continue con el siguiente ciclo en el orden "Planear, Hacer, Verificar y Actuar) numerados como 1, 2, 3, 4 y repita los anteriores pasos.
C29: 8. Luego de diligenciar todos los ciclos, en la pantalla principal se encuentra un área identificada como 5. Resultado final.
C32: 9. Ingrese a este ítem, allí encontrará una representación gráfica del cumplimiento de cada ciclo.
C35: 10. Por último, en esta gráfica además de encontrar el vínculo hacia la pantalla principal, encontrará un ícono que lo dirigirá a su resultado final, seg

Sheet Planear
B3: Marque con una X en la columna "cumplimiento" de acuerdo al desarrollo de la organización en el ítem a calificar teniendo en cuenta los siguientes rangos:
B4: Cumple Totalmente: Indica que la organización cumple completamente y a cabalidad con el criterio enunciado,
B5: No Cumple: Indica que la organización no tiene establecido, implementado o ejecutado el criterio enunciado
B6: No aplica. Este criterio está dividido en: Justifica (se cuenta con una justificación adecuada, documentada o legalmente soportada para no aplicabilidad del criterio) y No justifica (no se cuenta con una justificación adecuada, documentada o legalmente soportada para no aplicabilidad del criterio)
R8: X
B9: CICLO PLANEAR
B12: ESTÁNDAR | G12: ÍTEM DEL ESTÁNDAR | M12: AYUDA | N12: CUMPLIMIENTO
N13: CUMPLE TOTALMENTE | O13: NO CUMPLE | P13: NO APLICA
P14: JUSTIFICA | Q14: NO JUSTIFICA
B15: RECURSOS 1ra PARTE (4%)
B16: Recursos financieros, técnicos, humanos y de otra índole requeridos para coordinar y desarrollar el Sistema de Gestión de la Seguridad y la Salud en el Trabajo (SG-SST) (4%) | G16: 1.1.1. Responsable del Sistema de Gestión de Seguridad y Salud en el Trabajo SG-SST | N16: x
G17: 1.1.2 Responsabilidades en el Sistema de Gestión de Seguridad y Salud en el Trabajo – SG-SST | N17: x
G18: 1.1.3 Asignación de recursos para el Sistema de Gestión en Seguridad y Salud en el Trabajo – SG-SST | N18: x
G19: 1.1.4 Afiliación al Sistema General de Riesgos Laborales | N19: x
G20: 1.1.5 Pago de pensión trabajadores alto riesgo | N20: x
G21: 1.1.6 Conformación COPASST / Vigía | O21: X
G22: 1.1.7 Capacitación COPASST / Vigía | O22: X
G23: 1.1.8 Conformación Comité de Convivencia | O23: X
B25: ESTÁNDAR | G25: ÍTEM DEL ESTÁNDAR | M25: AYUDA | N25: CUMPLIMIENTO
N26: CUMPLE TOTALMENTE | O26: NO CUMPLE | P26: NO APLICA
P27: JUSTIFICA | Q27: NO JUSTIFICA
B28: RECURSOS 2da PARTE (6%)
B29: Capacitación en el Sistema de Gestión de la Seguridad y la Salud en el Trabajo (6%) | G29: 1.2.1 Programa Capacitación promoción y prevención PYP | O29: X
G30: 1.2.2 Capacitación, Inducción y Reinducción en Sistema de Gestión de Seguridad y Salud en el Trabajo SG-SST, actividades de Promoción y Prevención PyP | O30: x
G31: 1.2.3 Responsables del Sistema de Gestión de Seguridad y Salud en el Trabajo SG-SST con curso (50 horas) | N31: X
B33: ESTÁNDAR | G33: ÍTEM DEL ESTÁNDAR | M33: AYUDA | N33: CUMPLIMIENTO
N34: CUMPLE TOTALMENTE | O34: NO CUMPLE | P34: NO APLICA
P35: JUSTIFICA | Q35: NO JUSTIFICA
B36: GESTIÓN INTEGRAL DEL SISTEMA DE GESTIÓN DE LA SEGURIDAD (15%)
B37: Política de Seguridad y Salud en el Trabajo (1%) | G37: 2.1.1 Política del Sistema de Gestión de Seguridad y Salud en el Trabajo SG-SST firmada, fechada y comunicada al COPASST/Vigía | O37: X
B39: Objetivos del Sistema de Gestión de la Seguridad y la Salud en el Trabajo SG-SST (1%) | G39: 2.2.1 Objetivos definidos, claros, medibles, cuantificables, con metas, documentados, revisados del SG-SST | O39: X
B41: Evaluación inicial del SG-SST (1%) | G41: 2.3.1 Evaluación e identificación de prioridades | O41: X
B43: Plan Anual de Trabajo (2%) | G43: 2.4.1 Plan que identifica objetivos, metas, responsabilidad, recursos con cronograma y firmado | O43: X
B45: Conservación de la documentación (2%) | G45: 2.5.1 Archivo o retención documental del Sistema de Gestión en Seguridad y Salud en el Trabajo SG-SST | O45: X
B47: Rendición de cuentas (1%) | G47: 2.6.1 Rendición sobre el desempeño | O47: X
B49: Normatividad nacional vigente y aplicable en materia de seguridad y salud en el trabajo (2%) | G49: 2.7.1 Matriz legal | N49: X
B51: Comunicación (1%) | G51: 2.8.1 Mecanismos de comunicación, auto reporte en Sistema de Gestión de Seguridad y Salud en el Trabajo SG-SST | N51: X
B53: Adquisiciones (1%) | G53: 2.9.1 Identificación, evaluación, para adquisición de productos y servicios en Sistema de Gestión de Seguridad y Salud en el Trabajo SG-SST | N53: X
B55: Contratación (2%) | G55: 2.10.1 Evaluación y selección de proveedores y contratistas | N55: X
B57: Gestión del cambio (1%) | G57: 2.11.1 Evaluación del impacto de cambios internos y externos en el Sistema de Gestión de Seguridad y Salud en el Trabajo SG-SST

Sheet Planear explicación

Sheet Gestionar Planear
B3: .
B4: .
B5: .
B6: =IF(Planear!O16="","",'Anexo tecnico'!C5)
B7: =IF(Planear!O17="","",'Anexo tecnico'!C6)
B8: =IF(Planear!O18="","",'Anexo tecnico'!C7)
B9: =IF(Planear!O19="","",'Anexo tecnico'!C8)
B10: =IF(Planear!O20="","",'Anexo tecnico'!C9)
B11: =IF(Planear!O21="","",'Anexo tecnico'!C10) -> 1.1.6 Según el caso, designar un Vigía de Seguridad y Salud en el Trabajo o conformar el Comité Paritario de Seguridad y Salud en el Trabajo y mantén disponible los soportes de designación o la convocatoria, elección, conformación y el acta de constitución. Debes garantizar que si es igual el número de representantes del empleador y de los trabajadores yque el acta de conformación se encuentra vigente, para el caso en que proceda la constitución del Comité. Debes iniciar a generar actas de reunión mensuales del Copasst o los soportes de las gestiones adelantadas por el Vigía de Seguridad y Salud en el Trabajo, verificando el cumplimiento de sus funciones.
B12: =IF(Planear!O22="","",'Anexo tecnico'!C11) -> 1.1.7 Capacitar y evaluar tanto el Vigía en Seguridad y Salud en el Trabajo, como a los miembros del Comité Paritario en Seguridad y Salud en el Trabajo según aplique; manten registros de esta actividad.
B13: =IF(Planear!O23="","",'Anexo tecnico'!C12) -> 1.1.8 Generar la conformación del Comité de Convivencia Laboral; garantiza que esté conformado de acuerdo a la normativa y que su período de conformación se encuentre vigente. Genera las actas de conformación y tenlas disponibles. De igual manera genera las actas de las reuniones (como mínimo una reunión cada tres meses) y los informes de Gestión del Comité de Convivencia Laboral, y verifica el desarrollo de sus funciones.
B14: =IF(Planear!O29="","",'Anexo tecnico'!C13) -> 1.2.1 Generar el programa de capacitación anual y la matriz de identificación de peligros y garantizando que el mismo esté dirigido a los peligros ya identificados, con la evaluación y control del riesgo, y/o necesidades en Seguridad y Salud en el Trabajo, y mantener disponibles y documentadas las evidencias de su cumplimiento. Garantizar que el Comité Paritario en Seguridad y Salud en el Trabajo o Vigía en Seguridad y Salud en el Trabajo participó en la revisión anual del plan de capacitación.
B15: =IF(Planear!O30="","",'Anexo tecnico'!C14) -> 1.2.2 Contar con una lista de trabajadores, independientemente de su forma de vinculación y/o contratación y los soportes documentales donde se demuestre la capacitación y evaluación, la inducción y reinducción de conformidad con el criterio. Tambien se debe tener un Plan de capacitación, demostrar su cumplimento y la cobertura de los trabajadores objeto de cada tema.
B16: =IF(Planear!O31="","",'Anexo tecnico'!C15)
B17: =IF(Planear!O37="","",'Anexo tecnico'!C21) -> 2.1.1 Crear la política del Sistema de Gestión de Seguridad y Salud en el Trabajo (SG-SST), de la empresa y confirmar que cumpla con los aspectos contenidos en el criterio. Esta debe tener Fecha de emisión, estar firmada por el representante legal actual, incluir los requisitos normativos actuales o directrices de la empresa. Capacitar a los miembros del Comité Paritario de Seguridad y Salud en el Trabajo o Vigía de Seguridad y Salud en el Trabajo para que tengan pleno entendimiento de la política en Seguridad y Salud en el Trabajo
B18: =IF(Planear!O39="","",'Anexo tecnico'!C22) -> 2.2.1 Se deben definir los objetivos en relación al cumplimiento al SG SST, estos deben cumplir con las condiciones mencionadas en el criterio y deberas tener disponibles evidencias del proceso de difusión.
B19: =IF(Planear!O39="","",'Anexo tecnico'!C23) -> 2.3.1 Realizar y documentar la evaluación inicial del Sistema de Gestión de Seguridad y Salud en el Trabajo. Realizar la matriz legal, matriz de peligros, identificación de amenazas, verificación de controles, reporte de peligros, lista de asistencia a capacitaciones, análisis de puestos de trabajo, exámenes médicos iniciales y periódicos y seguimiento de indicadores, entre otros.
B20: =IF(Planear!O41="","",'Anexo tecnico'!C24) -> 2.4.1 Generar un plan de trabajo anual para alcanzar los objetivos propuestos en el Sistema de Gestión de Seguridad y Salud en el Trabajo, el cual debe identificar metas, responsabilidades, recursos, cronograma de actividades, estar firmado por el empleador y el responsable del Sistema de Gestión de Seguridad y Salud en el Trabajo. Si en su ejecución identificaste de desviaciones en el cumplimiento, contar con los planes de mejora para el logro del plan inicial.
B21: =IF(Planear!O41="","",'Anexo tecnico'!C25) -> 2.5.1 Disponer de un sistema de archivo o retención documental, para los registros y documentos que soportan el Sistema de Gestión de Seguridad y Salud en el Trabajo. VGarantizar que todos los registros y documentos sean legibles (entendible para el lector objeto), fácilmente identificables y accesibles (para todos los que estén vinculados con cada documento en particular), protegidos contra daño y pérdida.
B22: =IF(Planear!O43="","",'Anexo tecnico'!C26) -> 2.6.1 Tener o realizar registros documentales que evidencien la rendición de cuentas anual, al interior de la empresa. Definir estos mecanismos de rendición de cuentas y garantizar que se haga y se cumplan con los criterios del requisito. Recuerda que la rendición de cuentas debe incluir todos los niveles de la empresa ya que en cada uno de ellos hay responsabilidades sobre la Seguridad y Salud en el Trabajo
B23: =IF(Planear!O43="","",'Anexo tecnico'!C27) -> 2.7.1 Realizar una matriz legal en la cual se contemple la legislación nacional vigente en materia de riesgos laborales. Esta debe tener – Normas vigentes en riesgos laborales, aplicables a la empresa. – Normas técnicas de cumplimiento de acuerdo con los peligros / riesgos identificados en la empresa. – Normas vigentes de diferentes entidades que le aplique.
B24: =IF(Planear!O45="","",'Anexo tecnico'!C28) -> 2.8.1 Disponer de mecanismos de comunicación interna y externa en materia de Seguridad y Salud en el Trabajo y realizar acciones para dar respuesta a las comunicaciones recibidas.
B25: =IF(Planear!O47="","",'Anexo tecnico'!C29) -> 2.9.1 Generar un procedimiento para la identificación y evaluación de las especificaciones en Seguridad y Salud en el Trabajo de las compras o adquisición de productos y servicios, como por ejemplo los elementos de protección personal. De igual manera debes crear una matriz de elementos de protección personal.
B26: =IF(Planear!O49="","",'Anexo tecnico'!C30)
B27: =IF(Planear!O51="","",'Anexo tecnico'!C31)

Sheet Hacer
B3: Marque con una X en la columna "cumplimiento" de acuerdo al desarrollo de la organización en el ítem a calificar teniendo en cuenta los siguientes rangos:
B4: Cumple Totalmente: Indica que la organización cumple completamente y a cabalidad con el criterio enunciado,
B5: No Cumple: Indica que la organización no tiene establecido, implementado o ejecutado el criterio enunciado
B6: No aplica. Este criterio está dividido en: Justifica (se cuenta con una justificación adecuada, documentada o legalmente soportada para no aplicabilidad del criterio) y No justifica (no se cuenta con una justificación adecuada, documentada o legalmente soportada para no aplicabilidad del criterio)
R8: X
B9: CICLO HACER
B12: ESTÁNDAR | G12: ÍTEM DEL ESTÁNDAR | M12: AYUDA | N12: CUMPLIMIENTO
N13: CUMPLE TOTALMENTE | O13: NO CUMPLE | P13: NO APLICA
P14: JUSTIFICA | Q14: NO JUSTIFICA
B15: GESTIÓN DE LA SALUD (20%)
B16: Condiciones de salud en el trabajo (9 %) | G16: 3.1.1 Evaluación Médica Ocupacional | N16: X
G17: 3.1.2 Actividades de Promoción y Prevención en Salud | N17: X
G18: 3.1.3 Información al médico de los perfiles de cargo | N18: X
G19: 3.1.4 Realización de los exámenes médicos ocupacionales: preingreso, periódicos | O19: X
G20: 3.1.5 Custodia de Historias Clínicas | O20: X
G21: 3.1.6 Restricciones y recomendaciones médico laborales | P21: X
G22: 3.1.7 Estilos de vida y entornos saludables (controles tabaquismo, alcoholismo, farmacodependencia y otros) | Q22: X
G23: 3.1.8 Agua potable, servicios sanitarios y disposición de basuras | O23: X
G24: 3.1.9 Eliminación adecuada de residuos sólidos, líquidos o gaseosos | N24: X
B26: Registro, reporte e investigación de las enfermedades laborales, los incidentes y accidentes del trabajo (5%) | G26: 3.2.1 Reporte de los accidentes de trabajo y enfermedad laboral a la ARL, EPS y Dirección Territorial del Ministerio de Trabajo | N26: X
G27: 3.2.2 Investigación de Accidentes, Incidentes y Enfermedad Laboral | N27: X
G28: 3.2.3 Registro y análisis estadístico de Incidentes, Accidentes de Trabajo y Enfermedad Laboral | O28: X
B30: Mecanismos de vigilancia de las condiciones de salud de los trabajadores (6%) | G30: 3.3.1 Medición de la severidad de los Accidentes de Trabajo y Enfermedad Laboral | N30: X
G31: 3.3.2 Medición de la frecuencia de los Incidentes, Accidentes de Trabajo y Enfermedad Laboral | N31: X
G32: 3.3.3 Medición de la mortalidad de Accidentes de Trabajo y Enfermedad Laboral | N32: X
G33: 3.3.4 Medición de la prevalencia de incidentes, Accidentes de Trabajo y Enfermedad Laboral | N33: X
G34: 3.3.5 Medición de la incidencia de Incidentes, Accidentes de Trabajo y Enfermedad Laboral | O34: X
G35: 3.3.6 Medición del ausentismo por incidentes, Accidentes de Trabajo y Enfermedad Laboral | N35: X
B37: ESTÁNDAR | G37: ÍTEM DEL ESTÁNDAR | M37: AYUDA | N37: CUMPLIMIENTO
N38: CUMPLE TOTALMENTE | O38: NO CUMPLE | P38: NO APLICA
P39: JUSTIFICA | Q39: NO JUSTIFICA
B40: GESTIÓN DE PELIGROS Y RIESGOS (30%)
B41: Identificación de peligros, evaluación y valoración de riesgos (15%) | G41: 4.1.1 Metodología para la identificación, evaluación y valoración de peligros | N41: x
G42: 4.1.2 Identificación de peligros con participación de todos los niveles de la empresa | N42: x
G43: 4.1.3 Identificación y priorización de la naturaleza de los peligros (Metodología adicional, cancerígenos y otros) | N43: x
G44: 4.1.4 Realización mediciones ambientales, químicos, físicos y biológicos | N44: x
B46: Medidas de prevención y control para intervenir los peligros/riesgos (15%) | G46: 4.2.1 Se implementan las medidas de prevención y control de peligros | N46: x
G47: 4.2.2 Se verifica aplicación de las medidas de prevención y control | N47: x
G48: 4.2.3 Hay procedimientos, instructivos, fichas, protocolos | O48: X
G49: 4.2.4 Inspección con el COPASST o Vigía | O49: X
...

Sheet Hacer explicación

Sheet Gestionar Hacer
B3: .
B4: .
B5: .
B6: =IF(Hacer!O16="","",'Anexo tecnico'!C38)
B7: =IF(Hacer!O17="","",'Anexo tecnico'!C39)
B8: =IF(Hacer!O18="","",'Anexo tecnico'!C40)
B9: =IF(Hacer!O19="","",'Anexo tecnico'!C41) -> 3.1.4 Solicitar los conceptos de aptitud que demuestren la realización de las evaluaciones médicas. Solicitar el documento o registro que evidencie la definición de la frecuencia de las evaluaciones médicas periódicas. Solicitar el documento que evidencie la comunicación por escrito al trabajador de los resultados de las evaluaciones médicas ocupacionales.
B10: =IF(Hacer!O20="","",'Anexo tecnico'!C42) -> 3.1.5 Evidenciar los soportes que demuestren que la custodia de las historias clínicas esté a cargo de una institución prestadora de servicios en Seguridad y Salud en el Trabajo o del médico que practica los exámenes laborales en la empresa.
B11: =IF(Hacer!O21="","",'Anexo tecnico'!C43)
B12: =IF(Hacer!O22="","",'Anexo tecnico'!C44)
B13: =IF(Hacer!O23="","",'Anexo tecnico'!C45) -> 3.1.8 Mediante observación directa, verificar si se cumple lo que se exige en el criterio, dejando prueba fotográfica o fílmica al respecto.
B14: =IF(Hacer!O24="","",'Anexo tecnico'!C46)
B15: =IF(Hacer!O26="","",'Anexo tecnico'!C47)
B16: =IF(Hacer!O27="","",'Anexo tecnico'!C48)
B17: =IF(Hacer!O28="","",'Anexo tecnico'!C49) -> 3.2.3 Solicitar el registro estadístico actualizado de lo corrido del año y el año inmediatamente anterior al de la visita, así como la evidencia que contiene el análisis y las conclusiones derivadas del estudio que son usadas para el mejoramiento del SG-SST.
B18: =IF(Hacer!O30="","",'Anexo tecnico'!C50)
B19: =IF(Hacer!O31="","",'Anexo tecnico'!C51)
B20: =IF(Hacer!O32="","",'Anexo tecnico'!C52)
B21: =IF(Hacer!O33="","",'Anexo tecnico'!C53)
B22: =IF(Hacer!O34="","",'Anexo tecnico'!C54) -> 3.3.5 Solicitar los resultados de la medición para lo corrido del año y/o el año inmediatamente anterior y constatar el comportamiento de la incidencia de las enfermedades laborales y la relación del evento con los peligros/riesgos.
B23: =IF(Hacer!O35="","",'Anexo tecnico'!C55)
B24: =IF(Hacer!O41="","",'Anexo tecnico'!C56)
B25: =IF(Hacer!O42="","",'Anexo tecnico'!C57)
B26: =IF(Hacer!O43="","",'Anexo tecnico'!C58)
B27: =IF(Hacer!O44="","",'Anexo tecnico'!C59)
B28: =IF(Hacer!O46="","",'Anexo tecnico'!C60)
B29: =IF(Hacer!O47="","",'Anexo tecnico'!C61)
B30: =IF(Hacer!O48="","",'Anexo tecnico'!C62) -> 4.2.3 Solicitar los procedimientos, instructivos, fichas técnicas cuando aplique y protocolos de Seguridad y Salud en el Trabajo,
B31: =IF(Hacer!O49="","",'Anexo tecnico'!C63) -> 4.2.4 Solicitar la evidencia de las inspecciones realizadas a las instalaciones, maquinaria y equipos, incluidos los relacionados con la prevención y atención de emergencias y verificar la participación del Comité Paritario o Vigía de Seguridad y Salud en el Trabajo.
B32: =IF(Hacer!O50="","",'Anexo tecnico'!C64) -> 4.2.5 Solicitar la evidencia del mantenimiento preventivo y/o correctivo en las instalaciones, equipos y herramientas de acuerdo con los manuales de uso de estos y los informes de las inspecciones o reportes de condiciones inseguras.
B33: =IF(Hacer!O51="","",'Anexo tecnico'!C65)
B34: =IF(Hacer!O57="","",'Anexo tecnico'!C66)
B35: =IF(Hacer!O58="","",'Anexo tecnico'!C67)

Sheet Verificar
B3: Marque con una X en la columna "cumplimiento" de acuerdo al desarrollo de la organización en el ítem a calificar teniendo en cuenta los siguientes rangos:
B4: Cumple Totalmente: Indica que la organización cumple completamente y a cabalidad con el criterio enunciado,
B5: No Cumple: Indica que la organización no tiene establecido, implementado o ejecutado el criterio enunciado
B6: No aplica. Este criterio está dividido en: Justifica (se cuenta con una justificación adecuada, documentada o legalmente soportada para no aplicabilidad del criterio) y No justifica (no se cuenta con una justificación adecuada, documentada o legalmente soportada para no aplicabilidad del criterio)
R8: X
B9: CICLO VERIFICAR
B12: ESTÁNDAR | G12: ÍTEM DEL ESTÁNDAR | M12: AYUDA | N12: CUMPLIMIENTO
N13: CUMPLE TOTALMENTE | O13: NO CUMPLE | P13: NO APLICA
P14: JUSTIFICA | Q14: NO JUSTIFICA
B15: VERIFICACIÓN DEL SISTEMA DE GESTIÓN EN SEGURIDAD Y SALUD EN EL TRABAJO (5%)
B16: Gestión y resultados del Sistema de Gestión de Seguridad y Salud en el Trabajo (5%) | G16: 6.1.1 Indicadores estructura, proceso y resultado | O16: x
G17: 6.1.2 Las empresa adelanta auditoría por lo menos una vez al año | N17: x
G18: 6.1.3 Revisión anual por la alta dirección, resultados y alcance de la auditoría | N18: x
G19: 6.1.4 Planificar auditoría con el COPASST | O19: x
G59: =COUNTA(Verificar!X) -> 1

Sheet Verificar explicación 

Sheet Gestionar Verificar
B3: .
B4: .
B5: .
B6: =IF(Verificar!O16="","",'Anexo tecnico'!C74) -> 6.1.1 Se deben realizar (y mantener) indicadores de estructura, proceso y resultado del Sistema de Gestión de Seguridad y Salud en el Trabajo y estos deben estar alineados con el plan estratégico de la empresa.
B7: =IF(Verificar!O17="","",'Anexo tecnico'!C75)
B8: =IF(Verificar!O18="","",'Anexo tecnico'!C76)
B9: =IF(Verificar!O19="","",'Anexo tecnico'!C77) -> 6.1.4 Solicitar el documento donde conste la revisión anual por la Alta Dirección, así como la comunicación de los resultados al Comité Paritario de Seguridad y Salud en el Trabajo o al Vigía de Seguridad y Salud en el Trabajo y al responsable del Sistema de Gestión de Seguridad y Salud en el Trabajo.

Sheet Actuar
B3: Marque con una X en la columna "cumplimiento" de acuerdo al desarrollo de la organización en el ítem a calificar teniendo en cuenta los siguientes rangos:
B4: Cumple Totalmente: Indica que la organización cumple completamente y a cabalidad con el criterio enunciado,
B5: No Cumple: Indica que la organización no tiene establecido, implementado o ejecutado el criterio enunciado
B6: No aplica. Este criterio está dividido en: Justifica (se cuenta con una justificación adecuada, documentada o legalmente soportada para no aplicabilidad del criterio) y No justifica (no se cuenta con una justificación adecuada, documentada o legalmente soportada para no aplicabilidad del criterio)
R8: X
B9: CICLO ACTUAR
B12: ESTÁNDAR | G12: ÍTEM DEL ESTÁNDAR | M12: AYUDA | N12: CUMPLIMIENTO
N13: CUMPLE TOTALMENTE | O13: NO CUMPLE | P13: NO APLICA
P14: JUSTIFICA | Q14: NO JUSTIFICA
B15: MEJORAMIENTO (10%)
B16: Acciones preventivas y correctivas con base en los resultados del Sistema de Gestión de Seguridad y Salud en el Trabajo. (10%) | G16: 7.1.1 Definir acciones de Promoción y Prevención con base en resultados del Sistema de Gestión de Seguridad y Salud en el Trabajo SG-SST | N16: x
G17: 7.1.2 Toma de medidas correctivas, preventivas y de mejora | N17: x
G18: 7.1.3 Ejecución de acciones preventivas, correctivas y de mejora de la investigación de incidentes, accidentes de trabajo y enfermedad laboral | O18: X
G19: 7.1.4 Implementar medidas y acciones correctivas de autoridades y de ARL | N19: X
G59: =COUNTA(Actuar!X) -> 1

Sheet Actuar explicación

Sheet Gestionar Actuar
B3: .
B4: .
B5: .
B6: =IF(Actuar!O16="","",'Anexo tecnico'!C84)
B7: =IF(Actuar!O17="","",'Anexo tecnico'!C85)
B8: =IF(Actuar!O18="","",'Anexo tecnico'!C86) -> 7.1.3 Contar con la evidencia documental de las acciones preventivas, correctivas y/o de mejora planteadas como resultado de las investigaciones, estas deben garantizar su efectividad.
B9: =IF(Actuar!O19="","",'Anexo tecnico'!C87)

Sheet Anexo tecnico
B2: I PLANEAR
B3: ESTÁNDAR 1 RECURSOS (10%)
B4: E1.1 Estándar: Recursos financieros, técnicos humanos y de otra índole (4 %)
B5: 1.1.1 | C5: 1.1.1 Generar el documento en el que conste la designación del responsable del Sistema de Gestión de Seguridad y Salud en el Trabajo, con la respectiva asignación de responsabilidades y cuenta con el certificado correspondiente, que acredite la formación de acuerdo con lo establecido en el presente criterio. Contar con el título de formación de técnico, tecnólogo, profesional, especialista o maestría en Seguridad y Salud en el Trabajo. Ten disponible la licencia en Seguridad y Salud en el Trabajo vigente. Si tu encargado del SG SST no tiene licencia, garantiza que cumpla los requisitos de formación y cursos solicitada en los artículos 5 y 6 de la resolución 1111 de 2017. Cuenta con el certificado de aprobación del curso virtual de cincuenta (50) horas en Seguridad y Salud en el Trabajo.
B6: 1.1.2 | C6: 1.1.2 Generar el soporte que contenga la asignación y documentación de las responsabilidades en Seguridad y Salud en el Trabajo.
B7: 1.1.3 | C7: 1.1.3 Realizar y tener disponible la existencia de evidencias físicas y/o documentales que demuestren la definición y asignación de los recursos financieros, humanos, técnicos y de otra índole para la implementación, mantenimiento y continuidad del Sistema de Gestión de Seguridad y Salud en el Trabajo, y que evidencien la asignación de recursos con base en el plan de trabajo anual.
B8: 1.1.4 | C8: 1.1.4 Genera una lista de los trabajadores vinculados laboralmente a la fecha y que se pueda comparar con la planilla de pago de aportes a la seguridad social de los cuatro (4) meses anteriores a la fecha de verificación. Tambien crea una lista de los trabajadores vinculados por prestación de servicios a la fecha y que se pueda comparar con la última planilla de pago de aportes a la seguridad social. Si tienes trabajadores independientes que se afilien a través de agremiaciones verifica que correspondan a una agremiación autorizada por el Ministerio de Salud y Protección Social, conforme al listado publicado en la página web del Ministerio del Trabajo o del Ministerio de Salud y Protección Social.
B9: 1.1.5 | C9: 1.1.5 Identificar a los trabajadores que se dediquen en forma permanente al ejercicio de las actividades de alto riesgo establecidas en el Decreto 2090 de 2003 o de las normas que lo adicionen, modifiquen o complementen y garantizar que se les está cotizando el monto establecido en la norma al Sistema de Pensiones.
B10: 1.1.6 | C10: 1.1.6 Según el caso, designar un Vigía de Seguridad y Salud en el Trabajo o conformar el Comité Paritario de Seguridad y Salud en el Trabajo y mantén disponible los soportes de designación o la convocatoria, elección, conformación y el acta de constitución. Debes garantizar que si es igual el número de representantes del empleador y de los trabajadores yque el acta de conformación se encuentra vigente, para el caso en que proceda la constitución del Comité. Debes iniciar a generar actas de reunión mensuales del Copasst o los soportes de las gestiones adelantadas por el Vigía de Seguridad y Salud en el Trabajo, verificando el cumplimiento de sus funciones.
B11: 1.1.7 | C11: 1.1.7 Capacitar y evaluar tanto el Vigía en Seguridad y Salud en el Trabajo, como a los miembros del Comité Paritario en Seguridad y Salud en el Trabajo según aplique; manten registros de esta actividad.
B12: 1.1.8 | C12: 1.1.8 Generar la conformación del Comité de Convivencia Laboral; garantiza que esté conformado de acuerdo a la normativa y que su período de conformación se encuentre vigente. Genera las actas de conformación y tenlas disponibles. De igual manera genera las actas de las reuniones (como mínimo una reunión cada tres meses) y los informes de Gestión del Comité de Convivencia Laboral, y verifica el desarrollo de sus funciones.
B13: 1.2.1 | C13: 1.2.1 Generar el programa de capacitación anual y la matriz de identificación de peligros y garantizando que el mismo esté dirigido a los peligros ya identificados, con la evaluación y control del riesgo, y/o necesidades en Seguridad y Salud en el Trabajo, y mantener disponibles y documentadas las evidencias de su cumplimiento. Garantizar que el Comité Paritario en Seguridad y Salud en el Trabajo o Vigía en Seguridad y Salud en el Trabajo participó en la revisión anual del plan de capacitación.
B14: 1.2.2 | C14: 1.2.2 Contar con una lista de trabajadores, independientemente de su forma de vinculación y/o contratación y los soportes documentales donde se demuestre la capacitación y evaluación, la inducción y reinducción de conformidad con el criterio. Tambien se debe tener un Plan de capacitación, demostrar su cumplimento y la cobertura de los trabajadores objeto de cada tema.
B15: 1.2.3 | C15: 1.2.3 Tener disponible el certificado de aprobación del curso de capacitación virtual de cincuenta (50) horas definido por el Ministerio de Trabajo, expedido a nombre del responsable del Sistema de Gestión de Seguridad y Salud en el Trabajo
B17: ESTÁNDAR 2 – GESTIÓN INTEGRAL DEL SISTEMA DE LA SEGURIDAD Y SALUD EN EL TRABAJO (15%)
B18: E2.1 Estándar: Política de Seguridad y Salud en el Trabajo (1 %)
B19: Numeral | C19: Modo de verificación
B21: 2.1.1 | C21: 2.1.1 Crear la política del Sistema de Gestión de Seguridad y Salud en el Trabajo (SG-SST), de la empresa y confirmar que cumpla con los aspectos contenidos en el criterio. Esta debe tener Fecha de emisión, estar firmada por el representante legal actual, incluir los requisitos normativos actuales o directrices de la empresa. Capacitar a los miembros del Comité Paritario de Seguridad y Salud en el Trabajo o Vigía de Seguridad y Salud en el Trabajo para que tengan pleno entendimiento de la política en Seguridad y Salud en el Trabajo
B22: 2.2.1 | C22: 2.2.1 Se deben definir los objetivos en relación al cumplimiento al SG SST, estos deben cumplir con las condiciones mencionadas en el criterio y deberas tener disponibles evidencias del proceso de difusión.
B23: 2.3.1 | C23: 2.3.1 Realizar y documentar la evaluación inicial del Sistema de Gestión de Seguridad y Salud en el Trabajo. Realizar la matriz legal, matriz de peligros, identificación de amenazas, verificación de controles, reporte de peligros, lista de asistencia a capacitaciones, análisis de puestos de trabajo, exámenes médicos iniciales y periódicos y seguimiento de indicadores, entre otros.
B24: 2.4.1 | C24: 2.4.1 Generar un plan de trabajo anual para alcanzar los objetivos propuestos en el Sistema de Gestión de Seguridad y Salud en el Trabajo, el cual debe identificar metas, responsabilidades, recursos, cronograma de actividades, estar firmado por el empleador y el responsable del Sistema de Gestión de Seguridad y Salud en el Trabajo. Si en su ejecución identificaste de desviaciones en el cumplimiento, contar con los planes de mejora para el logro del plan inicial.
B25: 2.5.1 | C25: 2.5.1 Disponer de un sistema de archivo o retención documental, para los registros y documentos que soportan el Sistema de Gestión de Seguridad y Salud en el Trabajo. VGarantizar que todos los registros y documentos sean legibles (entendible para el lector objeto), fácilmente identificables y accesibles (para todos los que estén vinculados con cada documento en particular), protegidos contra daño y pérdida.
B26: 2.6.1 | C26: 2.6.1 Tener o realizar registros documentales que evidencien la rendición de cuentas anual, al interior de la empresa. Definir estos mecanismos de rendición de cuentas y garantizar que se haga y se cumplan con los criterios del requisito. Recuerda que la rendición de cuentas debe incluir todos los niveles de la empresa ya que en cada uno de ellos hay responsabilidades sobre la Seguridad y Salud en el Trabajo
B27: 2.7.1 | C27: 2.7.1 Realizar una matriz legal en la cual se contemple la legislación nacional vigente en materia de riesgos laborales. Esta debe tener – Normas vigentes en riesgos laborales, aplicables a la empresa. – Normas técnicas de cumplimiento de acuerdo con los peligros / riesgos identificados en la empresa. – Normas vigentes de diferentes entidades que le aplique.
B28: 2.8.1 | C28: 2.8.1 Disponer de mecanismos de comunicación interna y externa en materia de Seguridad y Salud en el Trabajo y realizar acciones para dar respuesta a las comunicaciones recibidas.
B29: 2.9.1 | C29: 2.9.1 Generar un procedimiento para la identificación y evaluación de las especificaciones en Seguridad y Salud en el Trabajo de las compras o adquisición de productos y servicios, como por ejemplo los elementos de protección personal. De igual manera debes crear una matriz de elementos de protección personal.
B30: 2.10.1 | C30: 2.10.1 Contar con un procedimiento para la selección y evaluación de proveedores y/o contratistas, debes garantizar que dichos proveedores o contratistas tienen documentado e implementado el Sistema de Gestión de Seguridad y Salud en el Trabajo y que conocen los peligros/riesgos y la forma de controlarlos al ejecutar el servicio por realizar en tu empresa
B31: 2.11.1 | C31: 2.11.1 Crear un documento para evaluar el impacto sobre la Seguridad y Salud en el Trabajo en cambios internos y externos que se presenten en la empresa
B33: II HACER
B34: ESTÁNDAR 3 – GESTIÓN DE LA SALUD (20%)
B35: E3.1 Estándar: Condiciones de salud en el trabajo (9 %)
B36: Numeral | C36: Modo de verificación
B38: 3.1.1 | C38: 3.1.1 Contar con el documento consolidado que evidencie el cumplimiento de lo requerido en el criterio.
B39: 3.1.2 | C39: 3.1.2 Solicitar las evidencias que constaten la definición y ejecución de las actividades de medicina del trabajo, promoción y prevención de conformidad con las prioridades que se identificaron con base a los resultados del diagnóstico de las condiciones de salud y los peligros/riesgos de intervención prioritarios.
B40: 3.1.3 | C40: 3.1.3 Verificar que al médico que realiza las evaluaciones ocupacionales, se le remitieron los soportes documentales respecto de los perfiles del cargo, descripción de las tareas y el medio en el cual desarrollará la labor los trabajadores.
B41: 3.1.4 | C41: 3.1.4 Solicitar los conceptos de aptitud que demuestren la realización de las evaluaciones médicas. Solicitar el documento o registro que evidencie la definición de la frecuencia de las evaluaciones médicas periódicas. Solicitar el documento que evidencie la comunicación por escrito al trabajador de los resultados de las evaluaciones médicas ocupacionales.
B42: 3.1.5 | C42: 3.1.5 Evidenciar los soportes que demuestren que la custodia de las historias clínicas esté a cargo de una institución prestadora de servicios en Seguridad y Salud en el Trabajo o del médico que practica los exámenes laborales en la empresa.
B43: 3.1.6 | C43: 3.1.6 Solicitar documento de recomendaciones y restricciones a trabajadores y revisar que la empresa ha acatado todas las recomendaciones y restricciones médico-laborales prescritas a todos los trabajadores y ha realizado las acciones que se requieran en materia de reubicación o readaptación. Solicitar documento de soporte de recibido por parte de quienes califican en primera oportunidad y/o a las Juntas de Calificación de Invalidez.
B44: 3.1.7 | C44: 3.1.7 Solicitar el programa respectivo y los documentos y registros que evidencien el cumplimiento del mismo.
B45: 3.1.8 | C45: 3.1.8 Mediante observación directa, verificar si se cumple lo que se exige en el criterio, dejando prueba fotográfica o fílmica al respecto.
...

Sheet Estandar
B2: I PLANEAR
B3: ESTÁNDAR 1 RECURSOS (10%)
B4: E1.1 Estándar: Recursos financieros, técnicos humanos y de otra índole (4 %)
B5: Numeral | C5: Marco legal | D5: Criterio | E5: Modo de verificación
B7: 1.1.1 | C7: Decreto 1607/2002 | D7: El diseño del Sistema de Gestión de Seguridad y Salud en el Trabajo, para empresas de diez (10) o menos trabajadores clasificadas en Riesgo I, II, III, podrá ser realizado por técnicos o tecnólogos en eguridad y Salud en el Trabajo o en alguna de sus áreas, con licencia vigente en Salud Ocupacional o Seguridad y Salud en el Trabajo que acrediten mínimo dos (2) años de experiencia en el desarrollo de actividades de Seguridad y Salud en el Trabajo y que acrediten la aprobación del curso de capacitación virtual de cincuenta (50) horas. | E7: Solicitar el documento en el que consta la designación del responsable del Sistema de Gestión de Seguridad y Salud en el Trabajo, con la respectiva asignación de responsabilidades y solicitar el certificado correspondiente, que acredite la formación de acuerdo con lo establecido en el presente criterio.
C8: Decreto 1072/2015,
C9: Artículo. 2.2.4.6.8 | D9: Para empresas de diez (10) o menos trabaja dores clasificadas en Riesgo IV y V, podrá ser realizado por un Profesional en Salud Ocupacional o Seguridad y Salud en el Trabajo, profesional con posgrado en Seguridad y Salud en el Trabajo, con licencia en Salud Ocupacional o Seguridad y Salud en el Trabajo vigente y que acrediten la aprobación del curso de capacitación virtual de cincuenta (50) horas. | E9: Se solicita el título de formación de técnico, tecnólogo, profesional, especialista o maestría en Seguridad y Salud en el Trabajo.
C10: numerales 2 y 10.
D11: La persona que diseñe, ejecute e implemente el Sistema de Gestión de Seguridad y Salud en el Trabajo tenga la formación y cursos solicitada en los artículos 5 y 6 de la presente resolución. | E11: Se verifica la licencia en Seguridad y Salud en el Trabajo vigente.
C12: Resolución 4502/2012
E13: Se constata la existencia del certificado de aprobación del curso virtual de cincuenta (50) horas en Seguridad y Salud en el Trabajo.
C14: Decreto 1295/1994,
C15: Artículo. 26. | E15: A quien no tenga licencia se le solicita que cumpla los requisitos de formación y cursos solicitada en los artículos 5 y 6 de la presente resolución.
C16: Artículos 5 y 6 de la presente resolución
B18: Numeral | C18: Marco legal | D18: Criterio | E18: Modo de verificación
B20: 1.1.2 | C20: Decreto 1072/2015 | D20: La empresa asignó y documentó las responsabilidades específicas en el Sistema de Gestión de Seguridad y Salud en el Trabajo a todos los niveles de la organización, para la implementación y mejora continua del Sistema de Gestión de Seguridad y Salud en el Trabajo. | E20: Solicitar el soporte que contenga la asignación y documentación de las responsabilidades en Seguridad y Salud en el Trabajo.
C21: Artículo 2.2.4.6.8
C22: numeral 2,
C23: Artículo 2.2.4.6.12
C24: numeral 2
B26: Numeral | C26: Marco legal | D26: Criterio | E26: Modo de verificación
B28: 1.1.3 | C28: Decreto 1072/2015, | D28: La empresa define y asigna los recursos financieros, humanos, técnicos y tecnológicos, requeridos para la implementación, mantenimiento y continuidad del Sistema de Gestión de Seguridad y Salud en el Trabajo. | E28: Constatar la existencia de evidencias físicas y/o documentales que demuestren la definición y asignación de los recursos financieros, humanos, técnicos y de otra índole para la implementación, mantenimiento y continuidad del Sistema de Gestión de Seguridad y Salud en el Trabajo, evidenciando la asignación de recursos con base en el plan de trabajo anual.
C29: Artículo 2.2.4.6.8.
C30: numeral 4,
C31: Artículo 2.2.4.6.17
C32: numeral 2.5.
B34: Numeral | C34: Marco legal | D34: Criterio | E34: Modo de verificación
B36: 1.1.4 | C36: Decreto 2090/2003 | D36: Todos los trabajadores, independientemente de su forma de vinculación o contratación están afiliados al Sistema General de Riesgos Laborales y el pago de los aportes se realiza conforme a la normativa y en la respectiva clase de riesgo. | E36: Solicitar una lista de los trabajadores vinculados laboralmente a la fecha y comparar con la planilla de pago de aportes a la seguridad social de los cuatro (4) meses anteriores a la fecha de verificación. Realizar el siguiente muestreo:
C37: Artículo 5°.
E38: De uno (1) a diez (10) trabajadores verificar el 100%.
C39: Ley 1562/2012 Artículos 2°, 6° y 7°.
E40: Entre once (11) y cincuenta (50) trabajadores verificar el 20%.
C41: Decreto 1295/1994 Artículos 4, 16, 21 y 23.
E42: Entre cincuenta y uno (51) y doscientos (200) trabajadores verificar el 10%
C43: Decreto 1072/2015
C44: Artículos: | E44: Mayores a doscientos un (201) trabajadores verificar el registro de 30 trabajadores.
C45: 2.2.4.2.2.5.
C46: 2.2.4.2.2.6. | E46: Solicitar una lista de los trabajadores vinculados por prestación de servicios a la fecha y comparar con la última planilla de pago de aportes a la seguridad social suministrada por los contratistas. Tomar:
C47: 2.2.4.2.2.13.
C48: 2.2.4.2.3.4. | E48: De uno (1) a diez (10) trabajadores verificar el 100%.
...

Sheet Evaluación Indicadores
H2: PORCENTAJE DE CUMPLIMIENTO
H3: Planear | I3: Hacer | J3: Verificar | K3: Actuar
H4: ='Valores Resolución 1111'!K7 -> 0.105 | I4: ='Valores Resolución 1111'!K29 -> 0.455 | J4: ='Valores Resolución 1111'!K59 -> 0.025 | K4: ='Valores Resolución 1111'!K63 -> 0.075
H5: =H4*4 -> 0.42 | I5: =I4*1.67499 -> 0.76212045 | J5: =J4*20 -> 0.5 | K5: =K4*10 -> 0.75
L147: =COUNTA(Planear!N29)*0.02 -> 0
L148: =COUNTA(Planear!N30)*0.02 -> 0
L149: =COUNTA(Planear!N31)*0.02 -> 0.02
L150: =SUM(L147:L149) -> 0.02
J160: =COUNTA(Planear!N16)*0.005 -> 0.005
J161: =COUNTA(Planear!N17)*0.005 -> 0.005
J162: =COUNTA(Planear!N18)*0.005 -> 0.005
J163: =COUNTA(Planear!N19)*0.005 -> 0.005
J164: =COUNTA(Planear!N20)*0.005 -> 0.005
J165: =COUNTA(Planear!N21)*0.005 -> 0
J166: =COUNTA(Planear!N22)*0.005 -> 0
J167: =COUNTA(Planear!N23)*0.005 -> 0
I168: Total | J168: =SUM(J160:J167) -> 0.025

Sheet Resultado 
E15: ='Valores Resolución 1111'!K7 -> 0.105 | F15: DE | G15: 0.25
E77: ='Valores Resolución 1111'!K29 -> 0.455 | F77: DE | G77: 0.6
E135: ='Valores Resolución 1111'!K59 -> 0.025 | F135: DE | G135: 0.05
E198: ='Valores Resolución 1111'!K63 -> 0.075 | F198: DE | G198: 0.1

Sheet Gráfica

Sheet Plan de acción
D1: ='Valores Resolución 1111'!K67 -> 0.66
C2: Criterio | D2: Valoración | E2: Acción
C3: Si el puntaje obtenido es menor al 60% | D3: CRÍTICO | E3: Realizar y tener a disposición del Ministerio del Trabajo un Plan de Mejoramiento de inmediato. Enviar a la respectiva Administradora de Riesgos Laborales a la que se encuentre afiliada la empresa o contratante, un reporte de avances en el término máximo de tres (3) meses después de realizada la autoevaluación de Estándares Mínimos. Seguimiento anual y plan de visita a la empresa con valoración crítica, por parte del Ministerio del Trabajo.
C4: Si el puntaje obtenido está entre el 61 y 85% | D4: MODERADAMENTE ACEPTABLE | E4: Realizar y tener a disposición del Ministerio del Trabajo un Plan de Mejoramiento. Enviar a la Administradora de Riesgos Laborales un reporte de avances en el término máximo de seis (6) meses después de realizada la autoevaluación de Estándares Mínimos. Plan de visita por parte del Ministerio del Trabajo.
C5: Si el puntaje obtenido es mayor o igual al 86% | D5: ACEPTABLE | E5: Mantener la calificación y evidencias a disposición del Ministerio del Trabajo, e incluir en el Plan de Anual de Trabajo las mejoras detectadas.
